dset ^ocnmon2x1_202401.grb
index ^ocnmon2x1_202401.grb.idx
undef 9.999E+20
title ocnmon2x1_202401.grb
* produced by grib2ctl v0.9.12.5p33j beta6
dtype grib 255
options yrev
ydef 139 linear -74.000000 1
xdef 180 linear 1.000000 2.000000
tdef 1 linear 00Z01jan2024 1mo
zdef 40 levels 4479 3972 3483 3017 2579 2175 1807 1480 1194 950 747 585 459 367 303 262 239 225 215 205 195 185 175 165 155 145 135 125 115 105 95 85 75 65 55 45 35 25 15 5
vars 10
DISTsfc 0 8,1,0 ** surface Geometric height [m]
DZDTdsl 40 40,160,0 ** Geometric vertical velocity [m/s]
GRADsfc 0 117,1,0 ** surface Global radiation [W/m^2]
PRATEsfc 0 59,1,0 ** surface Precipitation rate [kg/m^2/s]
SALTYdsl 40 88,160,0 ** Salinity [kg/kg]
TMPdsl 40 11,160,0 ** Temp. [K]
UFLXsfc 0 124,1,0 ** surface Zonal momentum flux [N/m^2]
UGRDdsl 40 33,160,0 ** u wind [m/s]
VFLXsfc 0 125,1,0 ** surface Meridional momentum flux [N/m^2]
VGRDdsl 40 34,160,0 ** v wind [m/s]
ENDVARS
